BEGIN:VCALENDAR
VERSION:2.0
PRODID:-//Schützenverein Apensen e.V. - ECPv6.15.20//NONSGML v1.0//EN
CALSCALE:GREGORIAN
METHOD:PUBLISH
X-WR-CALNAME:Schützenverein Apensen e.V.
X-ORIGINAL-URL:https://www.sv-apensen.de
X-WR-CALDESC:Veranstaltungen für Schützenverein Apensen e.V.
REFRESH-INTERVAL;VALUE=DURATION:PT1H
X-Robots-Tag:noindex
X-PUBLISHED-TTL:PT1H
BEGIN:VTIMEZONE
TZID:Europe/Helsinki
BEGIN:DAYLIGHT
TZOFFSETFROM:+0200
TZOFFSETTO:+0300
TZNAME:EEST
DTSTART:20250330T010000
END:DAYLIGHT
BEGIN:STANDARD
TZOFFSETFROM:+0300
TZOFFSETTO:+0200
TZNAME:EET
DTSTART:20251026T010000
END:STANDARD
BEGIN:DAYLIGHT
TZOFFSETFROM:+0200
TZOFFSETTO:+0300
TZNAME:EEST
DTSTART:20260329T010000
END:DAYLIGHT
BEGIN:STANDARD
TZOFFSETFROM:+0300
TZOFFSETTO:+0200
TZNAME:EET
DTSTART:20261025T010000
END:STANDARD
BEGIN:DAYLIGHT
TZOFFSETFROM:+0200
TZOFFSETTO:+0300
TZNAME:EEST
DTSTART:20270328T010000
END:DAYLIGHT
BEGIN:STANDARD
TZOFFSETFROM:+0300
TZOFFSETTO:+0200
TZNAME:EET
DTSTART:20271031T010000
END:STANDARD
END:VTIMEZONE
BEGIN:VEVENT
DTSTART;VALUE=DATE:20260509
DTEND;VALUE=DATE:20260510
DTSTAMP:20260422T122729
CREATED:20260221T123117Z
LAST-MODIFIED:20260221T123117Z
UID:3350-1778284800-1778371199@www.sv-apensen.de
SUMMARY:Damentour
DESCRIPTION:
URL:https://www.sv-apensen.de/event/damentour/
LOCATION:Schießstand\, Fruchtallee 16\, Apensen\, 2161\, Deutschland
END:VEVENT
BEGIN:VEVENT
DTSTART;VALUE=DATE:20260626
DTEND;VALUE=DATE:20260629
DTSTAMP:20260422T122729
CREATED:20260221T123210Z
LAST-MODIFIED:20260221T123314Z
UID:3352-1782432000-1782691199@www.sv-apensen.de
SUMMARY:Schützenfest Apensen
DESCRIPTION:
URL:https://www.sv-apensen.de/event/schuetzenfest-apensen/
LOCATION:Schießstand\, Fruchtallee 16\, Apensen\, 2161\, Deutschland
CATEGORIES:Schützenfest
END:VEVENT
BEGIN:VEVENT
DTSTART;VALUE=DATE:20260629
DTEND;VALUE=DATE:20260630
DTSTAMP:20260422T122729
CREATED:20260221T123252Z
LAST-MODIFIED:20260221T123258Z
UID:3354-1782691200-1782777599@www.sv-apensen.de
SUMMARY:Katerschießen
DESCRIPTION:
URL:https://www.sv-apensen.de/event/katerschiessen/
LOCATION:Schießstand\, Fruchtallee 16\, Apensen\, 2161\, Deutschland
CATEGORIES:Schützenfest
END:VEVENT
BEGIN:VEVENT
DTSTART;VALUE=DATE:20260912
DTEND;VALUE=DATE:20260913
DTSTAMP:20260422T122729
CREATED:20260221T123355Z
LAST-MODIFIED:20260221T123355Z
UID:3356-1789171200-1789257599@www.sv-apensen.de
SUMMARY:Schlussschießen
DESCRIPTION:
URL:https://www.sv-apensen.de/event/schlussschiessen-3/
LOCATION:Schießstand\, Fruchtallee 16\, Apensen\, 2161\, Deutschland
END:VEVENT
END:VCALENDAR